Workbook

Sheet Seasonal WFO
A1: Table WF01. Seasonal Average Household Consumption, Prices, and Expenditures by Heating Fuel
A2: U.S. Energy Information Administration | Short-Term Energy Outlook - October 2026
B3: Winter of | G3: Forecast | I3: 26–27 Winter Scenarios
A4: Fuel / Region | B4: 21-22 | C4: 22-23 | D4: 23-24 | E4: 24-25 | F4: 25-26 | G4: 26-27 | H4: % Change | I4: Warmer | J4: % Change | K4: Colder | L4: % Change
A5: Natural Gas
A6: Northeast
A7: Consumption (Mcf**) | B7: 56.671523 | C7: 52.185979 | D7: 52.503375 | E7: 56.341536 | F7: 60.572337 | G7: 54.553609 | H7: -0.099364303 | I7: 51.332045 | J7: -0.15254971 | K7: 58.966712 | L7: -0.026507575
A8: Price ($/mcf) | B8: 13.963869 | C8: 16.878993 | D8: 14.583308 | E8: 15.697334 | F8: 16.886408 | G8: 16.118414 | H8: -0.045480019 | I8: 16.37054 | J8: -0.030549333 | K8: 16.153961 | L8: -0.043374965
A9: Expenditures ($) | B9: 791.35371 | C9: 880.84679 | D9: 765.67291 | E9: 884.41193 | F9: 1022.8492 | G9: 879.31767 | H9: -0.14032523 | I9: 840.33328 | J9: -0.17843876 | K9: 952.54595 | L9: -0.068732775
A10: Midwest
A11: Consumption (Mcf) | B11: 61.348232 | C11: 58.513641 | D11: 53.863253 | E11: 59.384427 | F11: 60.381684 | G11: 59.033062 | H11: -0.022334949 | I11: 55.348523 | J11: -0.083355754 | K11: 64.080376 | L11: 0.061255196
A12: Price ($/mcf) | B12: 10.499804 | C12: 12.043264 | D12: 9.9029373 | E12: 10.104303 | F12: 11.265147 | G12: 10.378919 | H12: -0.078669911 | I12: 10.822519 | J12: -0.039291776 | K12: 10.175757 | L12: -0.096704474
A13: Expenditures ($) | B13: 644.14443 | C13: 704.69521 | D13: 533.40442 | E13: 600.03826 | F13: 680.20853 | G13: 612.69935 | H13: -0.099247771 | I13: 599.01045 | J13: -0.11937233 | K13: 652.06631 | L13: -0.04137293
A14: South
A15: Consumption (Mcf) | B15: 37.173649 | C15: 34.576423 | D15: 36.282197 | E15: 36.759145 | F15: 35.408825 | G15: 36.149109 | H15: 0.020906758 | I15: 34.182583 | J15: -0.034630984 | K15: 38.842981 | L15: 0.096985856
A16: Price ($/mcf) | B16: 13.740684 | C16: 15.73361 | D16: 13.725729 | E16: 14.713751 | F16: 16.919923 | G16: 14.129196 | H16: -0.16493731 | I16: 14.695789 | J16: -0.13145058 | K16: 13.828642 | L16: -0.18270064
A17: Expenditures ($) | B17: 510.79138 | C17: 544.01195 | D17: 497.99962 | E17: 540.8649 | F17: 599.11458 | G17: 510.75785 | H17: -0.14747886 | I17: 502.34002 | J17: -0.16152931 | K17: 537.14567 | L17: -0.10343416
A18: West
A19: Consumption (Mcf) | B19: 38.954115 | C19: 45.28883 | D19: 39.443078 | E19: 39.896785 | F19: 33.416159 | G19: 39.071045 | H19: 0.1692261 | I19: 36.986074 | J19: 0.10683201 | K19: 41.927169 | L19: 0.25469744
A20: Price ($/mcf) | B20: 14.049631 | C20: 17.315884 | D20: 15.676571 | E20: 15.328556 | F20: 16.496294 | G20: 15.096337 | H20: -0.08486493 | I20: 15.216075 | J20: -0.077606414 | K20: 15.186415 | L20: -0.079404397
A21: Expenditures ($) | B21: 547.29094 | C21: 784.21615 | D21: 618.33219 | E21: 611.56011 | F21: 551.24277 | G21: 589.82965 | H21: 0.069999805 | I21: 562.7829 | J21: 0.02093475 | K21: 636.7234 | L21: 0.15506895
A22: U.S. Average
A23: Consumption (Mcf) | B23: 49.096989 | C23: 48.439713 | D23: 45.748323 | E23: 48.478217 | F23: 47.678339 | G23: 47.649391 | H23: -0.00060713193 | I23: 44.877092 | J23: -0.058753034 | K23: 51.447063 | L23: 0.079044788
A24: Price ($/mcf) | B24: 12.645509 | C24: 14.995904 | D24: 12.979366 | E24: 13.380352 | F24: 14.724034 | G24: 13.441281 | H24: -0.08711967 | I24: 13.814748 | J24: -0.061755231 | K24: 13.319598 | L24: -0.095383962
A25: Expenditures ($) | B25: 620.8564 | C25: 726.39729 | D25: 593.78424 | E25: 648.6556 | F25: 702.01749 | G25: 640.46888 | H25: -0.087673908 | I25: 619.96572 | J25: -0.11687996 | K25: 685.25417 | L25: -0.023878779
A26: Heating Oil
A27: U.S. Average
A28: Consumption (gallons) | B28: 416.63686 | C28: 385.78647 | D28: 387.6609 | E28: 415.53247 | F28: 442.96133 | G28: 401.69142 | H28: -0.093168207 | I28: 376.79902 | J28: -0.14936363 | K28: 435.7906 | L28: -0.016188175
A29: Price ($/gallon) | B29: 3.9305142 | C29: 4.3090703 | D29: 3.8348739 | E29: 3.646196 | F29: 3.9396474 | G29: 5.2648709 | H29: 0.33638125 | I29: 5.2376034 | J29: 0.32945995 | K29: 5.3517844 | L29: 0.35844249
A30: Expenditures ($) | B30: 1637.5971 | C30: 1662.381 | D30: 1486.6306 | E30: 1515.1128 | F30: 1745.1115 | G30: 2114.8535 | H30: 0.21187301 | I30: 1973.5238 | J30: 0.13088698 | K30: 2332.2573 | L30: 0.33645179
A31: Electricity
A32: Northeast
A33: Consumption (kWh***) | B33: 6400.3963 | C33: 6081.5944 | D33: 6121.2002 | E33: 6378.8564 | F33: 6682.7939 | G33: 6252.2325 | H33: -0.064428356 | I33: 6022.3148 | J33: -0.09883279 | K33: 6567.1883 | L33: -0.017298994
A34: Price (cents/kWh) | B34: 18.636744 | C34: 22.145013 | D34: 21.886535 | E34: 23.093645 | F34: 25.213421 | G34: 26.188483 | H34: 0.038672337 | I34: 26.286949 | J34: 0.042577641 | K34: 26.090413 | L34: 0.034782717
A35: Expenditures ($) | B35: 1192.8255 | C35: 1346.7699 | D35: 1339.7186 | E35: 1473.1105 | F35: 1684.961 | G35: 1637.3649 | H35: -0.028247614 | I35: 1583.0828 | J35: -0.060463216 | K35: 1713.4065 | L35: 0.016882018
A36: Midwest
A37: Consumption (kWh) | B37: 8379.7279 | C37: 8173.5591 | D37: 7721.5095 | E37: 8205.4413 | F37: 8242.7282 | G37: 8178.4404 | H37: -0.0077993332 | I37: 7845.7873 | J37: -0.048156498 | K37: 8634.1297 | L37: 0.047484454
A38: Price (cents/kWh) | B38: 13.125936 | C38: 14.408511 | D38: 14.608867 | E38: 15.037267 | F38: 16.247882 | G38: 16.870302 | H38: 0.038307747 | I38: 16.98826 | J38: 0.045567658 | K38: 16.752222 | L38: 0.031040367
A39: Expenditures ($) | B39: 1099.9177 | C39: 1177.6881 | D39: 1128.0251 | E39: 1233.8741 | F39: 1339.2688 | G39: 1379.7276 | H39: 0.030209639 | I39: 1332.8627 | J39: -0.004783219 | K39: 1446.4086 | L39: 0.079998756
A40: South
...

Sheet Monthly WFO
A1: Table WF02. Monthly Average Household Consumption, Prices, and Expenditures by Heating Fuel
A2: ='Seasonal WFO'!A2 -> U.S. Energy Information Administration | Short-Term Energy Outlook - October 2026
B3: Winter of 25-26 | H3: Winter of 26-27
A4: Fuel / Region | B4: Nov | C4: Dec | D4: Jan | E4: Feb | F4: Mar | G4: 25-26 | H4: Nov | I4: Dec | J4: Jan | K4: Feb | L4: Mar | M4: 26-27 | N4: % Change
A5: Natural Gas
A6: Northeast
A7: Consumption (Mcf**) | B7: 9.2642018 | C7: 13.622529 | D7: 14.950443 | E7: 13.109529 | F7: 9.625635 | G7: 60.572337 | H7: 8.5246724 | I7: 11.492768 | J7: 13.056598 | K7: 11.248178 | L7: 10.231392 | M7: 54.553609 | N7: -0.099364303
A8: Heating | B8: 7.1934894 | C8: 11.482793 | D8: 12.810707 | E8: 11.176864 | F8: 7.4858988 | G8: 50.149752 | H8: 6.45396 | I8: 9.3530323 | J8: 10.916862 | K8: 9.3155132 | L8: 8.0916559 | M8: 44.131024 | N8: -0.12001511
A9: Non-Heating | B9: 2.0707124 | C9: 2.1397362 | D9: 2.1397362 | E9: 1.9326649 | F9: 2.1397362 | G9: 10.422586 | H9: 2.0707124 | I9: 2.1397362 | J9: 2.1397362 | K9: 1.9326649 | L9: 2.1397362 | M9: 10.422586 | N9: 2.220446e-16
A10: Price ($/mcf) | B10: 17.307239 | C10: 16.431361 | D10: 16.381035 | E10: 16.517642 | F10: 18.412555 | G10: 16.886408 | H10: 17.346733 | I10: 16.095926 | J10: 15.741744 | K10: 15.609771 | L10: 16.160127 | M10: 16.118414 | N10: -0.045480019
A11: Expenditures ($) | B11: 160.33776 | C11: 223.83668 | D11: 244.90374 | E11: 216.5385 | F11: 177.23254 | G11: 1022.8492 | H11: 147.87521 | I11: 184.98675 | J11: 205.53363 | K11: 175.58149 | L11: 165.34059 | M11: 879.31767 | N11: -0.14032523
A12: Heating | B12: 124.49944 | C12: 188.67791 | D12: 209.85264 | E12: 184.61543 | F12: 137.83453 | G12: 845.47995 | H12: 111.95512 | I12: 150.54571 | J12: 171.85045 | K12: 145.41303 | L12: 130.76218 | M12: 710.52649 | N12: -0.15961758
A13: Non-Heating | B13: 35.838315 | C13: 35.158777 | D13: 35.051094 | E13: 31.923068 | F13: 39.39801 | G13: 177.36926 | H13: 35.920095 | I13: 34.441034 | J13: 33.683179 | K13: 30.168457 | L13: 34.578407 | M13: 168.79117 | N13: -0.048362896
A14: Midwest
A15: Consumption (Mcf) | B15: 9.4163237 | C15: 14.259043 | D15: 16.146578 | E15: 11.744692 | F15: 8.8150467 | G15: 60.381684 | H15: 9.3231676 | I15: 12.907785 | J15: 14.475083 | K15: 12.076152 | L15: 10.250873 | M15: 59.033062 | N15: -0.022334949
A16: Heating | B16: 7.7156763 | C16: 12.501708 | D16: 14.389242 | E16: 10.157421 | F16: 7.057711 | G16: 51.821759 | H16: 7.6225202 | I16: 11.15045 | J16: 12.717748 | K16: 10.488882 | L16: 8.4935378 | M16: 50.473137 | N16: -0.026024239
A17: Non-Heating | B17: 1.7006475 | C17: 1.7573357 | D17: 1.7573357 | E17: 1.587271 | F17: 1.7573357 | G17: 8.5599256 | H17: 1.7006475 | I17: 1.7573357 | J17: 1.7573357 | K17: 1.587271 | L17: 1.7573357 | M17: 8.5599256 | N17: 2.220446e-16
A18: Price ($/mcf) | B18: 11.354424 | C18: 10.494063 | D18: 10.639255 | E18: 12.246698 | F18: 12.255754 | G18: 11.265147 | H18: 11.182036 | I18: 10.050463 | J18: 9.7415081 | K18: 10.590599 | L18: 10.712775 | M18: 10.378919 | N18: -0.078669911
A19: Expenditures ($) | B19: 106.91693 | C19: 149.63529 | D19: 171.78755 | E19: 143.83371 | F19: 108.03504 | G19: 680.20853 | H19: 104.252 | I19: 129.72922 | J19: 141.00914 | K19: 127.89369 | L19: 109.8153 | M19: 612.69935 | N19: -0.099247771
A20: Heating | B20: 87.607062 | C20: 131.1937 | D20: 153.09081 | E20: 124.39488 | F20: 86.497571 | G20: 582.78402 | H20: 85.235297 | I20: 112.06718 | J20: 123.89004 | K20: 111.08354 | L20: 90.989362 | M20: 523.26542 | N20: -0.10212806
A21: Non-Heating | B21: 19.309873 | C21: 18.441591 | D21: 18.696742 | E21: 19.438829 | F21: 21.537474 | G21: 97.424509 | H21: 19.016702 | I21: 17.662038 | J21: 17.1191 | K21: 16.81015 | L21: 18.825943 | M21: 89.433932 | N21: -0.08201814
A22: South
A23: Consumption (Mcf) | B23: 5.2673509 | C23: 8.4563302 | D23: 10.295707 | E23: 7.1426198 | F23: 4.2468178 | G23: 35.408825 | H23: 5.7581441 | I23: 8.2945785 | J23: 9.1509429 | K23: 7.1560163 | L23: 5.7894272 | M23: 36.149109 | N23: 0.020906758
A24: Heating | B24: 3.4374713 | C24: 6.5654546 | D24: 8.4048309 | E24: 5.4347322 | F24: 2.3559422 | G24: 26.198431 | H24: 3.9282645 | I24: 6.4037029 | J24: 7.2600673 | K24: 5.4481287 | L24: 3.8985515 | M24: 26.938715 | N24: 0.028256796
A25: Non-Heating | B25: 1.8298796 | C25: 1.8908756 | D25: 1.8908756 | E25: 1.7078876 | F25: 1.8908756 | G25: 9.2103941 | H25: 1.8298796 | I25: 1.8908756 | J25: 1.8908756 | K25: 1.7078876 | L25: 1.8908756 | M25: 9.2103941 | N25: 2.220446e-16
A26: Price ($/mcf) | B26: 19.241252 | C26: 16.056548 | D26: 15.467232 | E26: 16.264947 | F26: 20.383326 | G26: 16.919923 | H26: 16.431814 | I26: 13.939367 | J26: 12.744445 | K26: 13.419992 | L26: 15.176382 | M26: 14.129196 | N26: -0.16493731
A27: Expenditures ($) | B27: 101.35042 | C27: 135.77947 | D27: 159.24608 | E27: 116.17434 | F27: 86.564273 | G27: 599.11458 | H27: 94.616753 | I27: 115.62117 | J27: 116.62369 | K27: 96.03368 | L27: 87.862558 | M27: 510.75785 | N27: -0.14747886
A28: Heating | B28: 66.14125 | C28: 105.41854 | D28: 129.99947 | E28: 88.395633 | F28: 48.021939 | G28: 437.97683 | H28: 64.548512 | I28: 89.263565 | J28: 92.525526 | K28: 73.113842 | L28: 59.165907 | M28: 378.61735 | N28: -0.13553109
A29: Non-Heating | B29: 35.209174 | C29: 30.360934 | D29: 29.246612 | E29: 27.778703 | F29: 38.542334 | G29: 161.13776 | H29: 30.068241 | I29: 26.357609 | J29: 24.09816 | K29: 22.919838 | L29: 28.69665 | M29: 132.1405 | N29: -0.17995322
A30: West
A31: Consumption (Mcf) | B31: 6.0639083 | C31: 7.4124614 | D31: 8.2395389 | E31: 6.5509801 | F31: 5.1492702 | G31: 33.416159 | H31: 6.8358499 | I31: 8.9702302 | J31: 8.7832443 | K31: 7.4750306 | L31: 7.0066899 | M31: 39.071045 | N31: 0.1692261
A32: Heating | B32: 3.9758677 | C32: 5.2548194 | D32: 6.081897 | E32: 4.6021422 | F32: 2.9916283 | G32: 22.906355 | H32: 4.7478093 | I32: 6.8125883 | J32: 6.6256024 | K32: 5.5261927 | L32: 4.8490479 | M32: 28.561241 | N32: 0.24686975
A33: Non-Heating | B33: 2.0880406 | C33: 2.1576419 | D33: 2.1576419 | E33: 1.9488379 | F33: 2.1576419 | G33: 10.509804 | H33: 2.0880406 | I33: 2.1576419 | J33: 2.1576419 | K33: 1.9488379 | L33: 2.1576419 | M33: 10.509804 | N33: -2.220446e-16
A34: Price ($/mcf) | B34: 16.42604 | C34: 17.13434 | D34: 16.291961 | E34: 16.442349 | F34: 16.056135 | G34: 16.496294 | H34: 15.040423 | I34: 15.264228 | J34: 14.965026 | K34: 15.156991 | L34: 15.035843 | M34: 15.096337 | N34: -0.08486493
A35: Expenditures ($) | B35: 99.606 | C35: 127.00764 | D35: 134.23825 | E35: 107.7135 | F35: 82.67738 | G35: 551.24277 | H35: 102.81407 | I35: 136.92364 | J35: 131.44148 | K35: 113.29897 | L35: 105.35149 | M35: 589.82965 | N35: 0.069999805
A36: Heating | B36: 65.307762 | C36: 90.037865 | D36: 99.086028 | E36: 75.67003 | F36: 48.033989 | G36: 378.13567 | H36: 71.409059 | I36: 103.9889 | J36: 99.152316 | K36: 83.760454 | L36: 72.909521 | M36: 431.22025 | N36: 0.140385
A37: Non-Heating | B37: 34.298238 | C37: 36.969772 | D37: 35.152218 | E37: 32.043473 | F37: 34.643391 | G37: 173.10709 | H37: 31.405013 | I37: 32.934738 | J37: 32.289169 | K37: 29.538518 | L37: 32.441964 | M37: 158.6094 | N37: -0.08374983
A38: U.S. Average
A39: Consumption (Mcf) | B39: 7.5846287 | C39: 10.997844 | D39: 12.446715 | E39: 9.6215949 | F39: 7.0275557 | G39: 47.678339 | H39: 7.7019228 | I39: 10.516588 | J39: 11.450189 | K39: 9.5758603 | L39: 8.404832 | M39: 47.649391 | N39: -0.00060713193
A40: Heating | B40: 5.6629044 | C40: 9.0120619 | D40: 10.460934 | E40: 7.8279855 | F40: 5.0417738 | G40: 38.005659 | H40: 5.7801985 | I40: 8.5308057 | J40: 9.4644069 | K40: 7.7822509 | L40: 6.4190502 | M40: 37.976712 | N40: -0.00076165083
...

Sheet WF01-Real
A1: Table WF01. Real Average Consumer Prices and Expenditures for Heating Fuels During the Winter
A2: U.S. Energy Information Administration | Short-Term Energy Outlook - March 2023
B3: Winter of | I3: Forecast
A4: Fuel / Region | B4: =+#REF! -> #REF! | C4: =+#REF! -> #REF! | D4: =+#REF! -> #REF! | E4: =+#REF! -> #REF! | F4: =+#REF! -> #REF! | G4: =+#REF! -> #REF! | H4: =+#REF! -> #REF! | I4: =+#REF! -> #REF! | J4: % Change
A5: Natural Gas
A6: Northeast
A7: Consumption (Mcf**) | B7: =SUM(#REF!) -> #REF! | C7: =SUM(#REF!) -> #REF! | D7: =SUM(#REF!) -> #REF! | E7: =SUM(#REF!) -> #REF! | F7: =SUM(#REF!) -> #REF! | G7: =SUM(#REF!) -> #REF! | H7: =SUM(#REF!) -> #REF! | I7: =SUM(#REF!) -> #REF! | J7: =((I7/H7)-1)*100 -> #REF!
A8: Price ($/mcf) | B8: =B9/B7 -> #REF! | C8: =C9/C7 -> #REF! | D8: =D9/D7 -> #REF! | E8: =E9/E7 -> #REF! | F8: =F9/F7 -> #REF! | G8: =G9/G7 -> #REF! | H8: =H9/H7 -> #REF! | I8: =I9/I7 -> #REF! | J8: =((I8/H8)-1)*100 -> #REF!
A9: Expenditures ($) | B9: =SUM(#REF!) -> #REF! | C9: =SUM(#REF!) -> #REF! | D9: =SUM(#REF!) -> #REF! | E9: =SUM(#REF!) -> #REF! | F9: =SUM(#REF!) -> #REF! | G9: =SUM(#REF!) -> #REF! | H9: =SUM(#REF!) -> #REF! | I9: =SUM(#REF!) -> #REF! | J9: =((I9/H9)-1)*100 -> #REF!
A10: Midwest
A11: Consumption (Mcf) | B11: =SUM(#REF!) -> #REF! | C11: =SUM(#REF!) -> #REF! | D11: =SUM(#REF!) -> #REF! | E11: =SUM(#REF!) -> #REF! | F11: =SUM(#REF!) -> #REF! | G11: =SUM(#REF!) -> #REF! | H11: =SUM(#REF!) -> #REF! | I11: =SUM(#REF!) -> #REF! | J11: =((I11/H11)-1)*100 -> #REF!
A12: Price ($/mcf) | B12: =B13/B11 -> #REF! | C12: =C13/C11 -> #REF! | D12: =D13/D11 -> #REF! | E12: =E13/E11 -> #REF! | F12: =F13/F11 -> #REF! | G12: =G13/G11 -> #REF! | H12: =H13/H11 -> #REF! | I12: =I13/I11 -> #REF! | J12: =((I12/H12)-1)*100 -> #REF!
A13: Expenditures ($) | B13: =SUM(#REF!) -> #REF! | C13: =SUM(#REF!) -> #REF! | D13: =SUM(#REF!) -> #REF! | E13: =SUM(#REF!) -> #REF! | F13: =SUM(#REF!) -> #REF! | G13: =SUM(#REF!) -> #REF! | H13: =SUM(#REF!) -> #REF! | I13: =SUM(#REF!) -> #REF! | J13: =((I13/H13)-1)*100 -> #REF!
A14: South
A15: Consumption (Mcf) | B15: =SUM(#REF!) -> #REF! | C15: =SUM(#REF!) -> #REF! | D15: =SUM(#REF!) -> #REF! | E15: =SUM(#REF!) -> #REF! | F15: =SUM(#REF!) -> #REF! | G15: =SUM(#REF!) -> #REF! | H15: =SUM(#REF!) -> #REF! | I15: =SUM(#REF!) -> #REF! | J15: =((I15/H15)-1)*100 -> #REF!
A16: Price ($/mcf) | B16: =B17/B15 -> #REF! | C16: =C17/C15 -> #REF! | D16: =D17/D15 -> #REF! | E16: =E17/E15 -> #REF! | F16: =F17/F15 -> #REF! | G16: =G17/G15 -> #REF! | H16: =H17/H15 -> #REF! | I16: =I17/I15 -> #REF! | J16: =((I16/H16)-1)*100 -> #REF!
A17: Expenditures ($) | B17: =SUM(#REF!) -> #REF! | C17: =SUM(#REF!) -> #REF! | D17: =SUM(#REF!) -> #REF! | E17: =SUM(#REF!) -> #REF! | F17: =SUM(#REF!) -> #REF! | G17: =SUM(#REF!) -> #REF! | H17: =SUM(#REF!) -> #REF! | I17: =SUM(#REF!) -> #REF! | J17: =((I17/H17)-1)*100 -> #REF!
A18: West
A19: Consumption (Mcf) | B19: =SUM(#REF!) -> #REF! | C19: =SUM(#REF!) -> #REF! | D19: =SUM(#REF!) -> #REF! | E19: =SUM(#REF!) -> #REF! | F19: =SUM(#REF!) -> #REF! | G19: =SUM(#REF!) -> #REF! | H19: =SUM(#REF!) -> #REF! | I19: =SUM(#REF!) -> #REF! | J19: =((I19/H19)-1)*100 -> #REF!
A20: Price ($/mcf) | B20: =B21/B19 -> #REF! | C20: =C21/C19 -> #REF! | D20: =D21/D19 -> #REF! | E20: =E21/E19 -> #REF! | F20: =F21/F19 -> #REF! | G20: =G21/G19 -> #REF! | H20: =H21/H19 -> #REF! | I20: =I21/I19 -> #REF! | J20: =((I20/H20)-1)*100 -> #REF!
A21: Expenditures ($) | B21: =SUM(#REF!) -> #REF! | C21: =SUM(#REF!) -> #REF! | D21: =SUM(#REF!) -> #REF! | E21: =SUM(#REF!) -> #REF! | F21: =SUM(#REF!) -> #REF! | G21: =SUM(#REF!) -> #REF! | H21: =SUM(#REF!) -> #REF! | I21: =SUM(#REF!) -> #REF! | J21: =((I21/H21)-1)*100 -> #REF!
A22: U.S. Average
A23: Consumption (Mcf) | B23: =SUM(#REF!) -> #REF! | C23: =SUM(#REF!) -> #REF! | D23: =SUM(#REF!) -> #REF! | E23: =SUM(#REF!) -> #REF! | F23: =SUM(#REF!) -> #REF! | G23: =SUM(#REF!) -> #REF! | H23: =SUM(#REF!) -> #REF! | I23: =SUM(#REF!) -> #REF! | J23: =((I23/H23)-1)*100 -> #REF!
A24: Price ($/mcf) | B24: =B25/B23 -> #REF! | C24: =C25/C23 -> #REF! | D24: =D25/D23 -> #REF! | E24: =E25/E23 -> #REF! | F24: =F25/F23 -> #REF! | G24: =G25/G23 -> #REF! | H24: =H25/H23 -> #REF! | I24: =I25/I23 -> #REF! | J24: =((I24/H24)-1)*100 -> #REF!
A25: Expenditures ($) | B25: =SUM(#REF!) -> #REF! | C25: =SUM(#REF!) -> #REF! | D25: =SUM(#REF!) -> #REF! | E25: =SUM(#REF!) -> #REF! | F25: =SUM(#REF!) -> #REF! | G25: =SUM(#REF!) -> #REF! | H25: =SUM(#REF!) -> #REF! | I25: =SUM(#REF!) -> #REF! | J25: =((I25/H25)-1)*100 -> #REF!
A26: Heating Oil
A27: U.S. Average
A28: Consumption (gallons) | B28: =SUM(#REF!) -> #REF! | C28: =SUM(#REF!) -> #REF! | D28: =SUM(#REF!) -> #REF! | E28: =SUM(#REF!) -> #REF! | F28: =SUM(#REF!) -> #REF! | G28: =SUM(#REF!) -> #REF! | H28: =SUM(#REF!) -> #REF! | I28: =SUM(#REF!) -> #REF! | J28: =((I28/H28)-1)*100 -> #REF!
A29: Price ($/gallon) | B29: =B30/B28 -> #REF! | C29: =C30/C28 -> #REF! | D29: =D30/D28 -> #REF! | E29: =E30/E28 -> #REF! | F29: =F30/F28 -> #REF! | G29: =G30/G28 -> #REF! | H29: =H30/H28 -> #REF! | I29: =I30/I28 -> #REF! | J29: =((I29/H29)-1)*100 -> #REF!
A30: Expenditures ($) | B30: =SUM(#REF!) -> #REF! | C30: =SUM(#REF!) -> #REF! | D30: =SUM(#REF!) -> #REF! | E30: =SUM(#REF!) -> #REF! | F30: =SUM(#REF!) -> #REF! | G30: =SUM(#REF!) -> #REF! | H30: =SUM(#REF!) -> #REF! | I30: =SUM(#REF!) -> #REF! | J30: =((I30/H30)-1)*100 -> #REF!
A31: Electricity
A32: Northeast
A33: Consumption (kWh***) | B33: =SUM(#REF!) -> #REF! | C33: =SUM(#REF!) -> #REF! | D33: =SUM(#REF!) -> #REF! | E33: =SUM(#REF!) -> #REF! | F33: =SUM(#REF!) -> #REF! | G33: =SUM(#REF!) -> #REF! | H33: =SUM(#REF!) -> #REF! | I33: =SUM(#REF!) -> #REF! | J33: =((I33/H33)-1)*100 -> #REF!
A34: Price (cents/kWh) | B34: =B35/B33*100 -> #REF! | C34: =C35/C33*100 -> #REF! | D34: =D35/D33*100 -> #REF! | E34: =E35/E33*100 -> #REF! | F34: =F35/F33*100 -> #REF! | G34: =G35/G33*100 -> #REF! | H34: =H35/H33*100 -> #REF! | I34: =I35/I33*100 -> #REF! | J34: =((I34/H34)-1)*100 -> #REF!
A35: Expenditures ($) | B35: =SUM(#REF!) -> #REF! | C35: =SUM(#REF!) -> #REF! | D35: =SUM(#REF!) -> #REF! | E35: =SUM(#REF!) -> #REF! | F35: =SUM(#REF!) -> #REF! | G35: =SUM(#REF!) -> #REF! | H35: =SUM(#REF!) -> #REF! | I35: =SUM(#REF!) -> #REF! | J35: =((I35/H35)-1)*100 -> #REF!
A36: Midwest
A37: Consumption (kWh) | B37: =SUM(#REF!) -> #REF! | C37: =SUM(#REF!) -> #REF! | D37: =SUM(#REF!) -> #REF! | E37: =SUM(#REF!) -> #REF! | F37: =SUM(#REF!) -> #REF! | G37: =SUM(#REF!) -> #REF! | H37: =SUM(#REF!) -> #REF! | I37: =SUM(#REF!) -> #REF! | J37: =((I37/H37)-1)*100 -> #REF!
A38: Price (cents/kWh) | B38: =B39/B37*100 -> #REF! | C38: =C39/C37*100 -> #REF! | D38: =D39/D37*100 -> #REF! | E38: =E39/E37*100 -> #REF! | F38: =F39/F37*100 -> #REF! | G38: =G39/G37*100 -> #REF! | H38: =H39/H37*100 -> #REF! | I38: =I39/I37*100 -> #REF! | J38: =((I38/H38)-1)*100 -> #REF!
A39: Expenditures ($) | B39: =SUM(#REF!) -> #REF! | C39: =SUM(#REF!) -> #REF! | D39: =SUM(#REF!) -> #REF! | E39: =SUM(#REF!) -> #REF! | F39: =SUM(#REF!) -> #REF! | G39: =SUM(#REF!) -> #REF! | H39: =SUM(#REF!) -> #REF! | I39: =SUM(#REF!) -> #REF! | J39: =((I39/H39)-1)*100 -> #REF!
A40: South
...

Sheet Expenditures(Cold) Real
A1: Cold Case
C2: Changes from Last Winter
A3: Fuel / Region | B3: Last Winter | C3: Baseline Forecast | E3: Cold Forecast | H3: Change from Baseline
B4: =+'Seasonal WFO'!F4 -> 25-26 | C4: =+'Seasonal WFO'!G4 -> 26-27 | D4: % Change | E4: =+C4 -> 26-27 | F4: % Change | H4: Quantity | I4: Percent
A5: Natural Gas
A6: Northeast
A7: Consumption (Mcf**) | B7: =+'WF01-Real'!H7 -> #REF! | C7: ='WF01-Real'!I7 -> #REF! | D7: ='WF01-Real'!J7 -> #REF! | E7: =SUM(#REF!) -> #REF! | F7: =((E7/B7)-1)*100 -> #REF! | H7: =+E7-C7 -> #REF! | I7: =+H7/C7 -> #REF!
A8: Price ($/mcf) | B8: =+'WF01-Real'!H8 -> #REF! | C8: ='WF01-Real'!I8 -> #REF! | D8: ='WF01-Real'!J8 -> #REF! | E8: =E9/E7 -> #REF! | F8: =((E8/B8)-1)*100 -> #REF! | H8: =+E8-C8 -> #REF! | I8: =+H8/C8 -> #REF!
A9: Expenditures ($) | B9: =+'WF01-Real'!H9 -> #REF! | C9: ='WF01-Real'!I9 -> #REF! | D9: ='WF01-Real'!J9 -> #REF! | E9: =SUM(#REF!) -> #REF! | F9: =((E9/B9)-1)*100 -> #REF! | H9: =+E9-C9 -> #REF! | I9: =+H9/C9 -> #REF!
A10: Midwest
A11: Consumption (Mcf) | B11: =+'WF01-Real'!H11 -> #REF! | C11: ='WF01-Real'!I11 -> #REF! | D11: ='WF01-Real'!J11 -> #REF! | E11: =SUM(#REF!) -> #REF! | F11: =((E11/B11)-1)*100 -> #REF! | H11: =+E11-C11 -> #REF! | I11: =+H11/C11 -> #REF!
A12: Price ($/mcf) | B12: =+'WF01-Real'!H12 -> #REF! | C12: ='WF01-Real'!I12 -> #REF! | D12: ='WF01-Real'!J12 -> #REF! | E12: =E13/E11 -> #REF! | F12: =((E12/B12)-1)*100 -> #REF! | H12: =+E12-C12 -> #REF! | I12: =+H12/C12 -> #REF!
A13: Expenditures ($) | B13: =+'WF01-Real'!H13 -> #REF! | C13: ='WF01-Real'!I13 -> #REF! | D13: ='WF01-Real'!J13 -> #REF! | E13: =SUM(#REF!) -> #REF! | F13: =((E13/B13)-1)*100 -> #REF! | H13: =+E13-C13 -> #REF! | I13: =+H13/C13 -> #REF!
A14: South
A15: Consumption (Mcf) | B15: =+'WF01-Real'!H15 -> #REF! | C15: ='WF01-Real'!I15 -> #REF! | D15: ='WF01-Real'!J15 -> #REF! | E15: =SUM(#REF!) -> #REF! | F15: =((E15/B15)-1)*100 -> #REF! | H15: =+E15-C15 -> #REF! | I15: =+H15/C15 -> #REF!
A16: Price ($/mcf) | B16: =+'WF01-Real'!H16 -> #REF! | C16: ='WF01-Real'!I16 -> #REF! | D16: ='WF01-Real'!J16 -> #REF! | E16: =E17/E15 -> #REF! | F16: =((E16/B16)-1)*100 -> #REF! | H16: =+E16-C16 -> #REF! | I16: =+H16/C16 -> #REF!
A17: Expenditures ($) | B17: =+'WF01-Real'!H17 -> #REF! | C17: ='WF01-Real'!I17 -> #REF! | D17: ='WF01-Real'!J17 -> #REF! | E17: =SUM(#REF!) -> #REF! | F17: =((E17/B17)-1)*100 -> #REF! | H17: =+E17-C17 -> #REF! | I17: =+H17/C17 -> #REF!
A18: West
A19: Consumption (Mcf) | B19: =+'WF01-Real'!H19 -> #REF! | C19: ='WF01-Real'!I19 -> #REF! | D19: ='WF01-Real'!J19 -> #REF! | E19: =SUM(#REF!) -> #REF! | F19: =((E19/B19)-1)*100 -> #REF! | H19: =+E19-C19 -> #REF! | I19: =+H19/C19 -> #REF!
A20: Price ($/mcf) | B20: =+'WF01-Real'!H20 -> #REF! | C20: ='WF01-Real'!I20 -> #REF! | D20: ='WF01-Real'!J20 -> #REF! | E20: =E21/E19 -> #REF! | F20: =((E20/B20)-1)*100 -> #REF! | H20: =+E20-C20 -> #REF! | I20: =+H20/C20 -> #REF!
A21: Expenditures ($) | B21: =+'WF01-Real'!H21 -> #REF! | C21: ='WF01-Real'!I21 -> #REF! | D21: ='WF01-Real'!J21 -> #REF! | E21: =SUM(#REF!) -> #REF! | F21: =((E21/B21)-1)*100 -> #REF! | H21: =+E21-C21 -> #REF! | I21: =+H21/C21 -> #REF!
A22: U.S. Average
A23: Consumption (Mcf) | B23: =+'WF01-Real'!H23 -> #REF! | C23: ='WF01-Real'!I23 -> #REF! | D23: ='WF01-Real'!J23 -> #REF! | E23: =SUM(#REF!) -> #REF! | F23: =((E23/B23)-1)*100 -> #REF! | H23: =+E23-C23 -> #REF! | I23: =+H23/C23 -> #REF!
A24: Price ($/mcf) | B24: =+'WF01-Real'!H24 -> #REF! | C24: ='WF01-Real'!I24 -> #REF! | D24: ='WF01-Real'!J24 -> #REF! | E24: =E25/E23 -> #REF! | F24: =((E24/B24)-1)*100 -> #REF! | H24: =+E24-C24 -> #REF! | I24: =+H24/C24 -> #REF!
A25: Expenditures ($) | B25: =+'WF01-Real'!H25 -> #REF! | C25: ='WF01-Real'!I25 -> #REF! | D25: ='WF01-Real'!J25 -> #REF! | E25: =SUM(#REF!) -> #REF! | F25: =((E25/B25)-1)*100 -> #REF! | H25: =+E25-C25 -> #REF! | I25: =+H25/C25 -> #REF!
A26: Heating Oil
A27: U.S. Average
A28: Consumption (gallons) | B28: =+'WF01-Real'!H28 -> #REF! | C28: ='WF01-Real'!I28 -> #REF! | D28: ='WF01-Real'!J28 -> #REF! | E28: =SUM(#REF!) -> #REF! | F28: =((E28/B28)-1)*100 -> #REF! | H28: =+E28-C28 -> #REF! | I28: =+H28/C28 -> #REF!
A29: Price ($/gallon) | B29: =+'WF01-Real'!H29 -> #REF! | C29: ='WF01-Real'!I29 -> #REF! | D29: ='WF01-Real'!J29 -> #REF! | E29: =E30/E28 -> #REF! | F29: =((E29/B29)-1)*100 -> #REF! | H29: =+E29-C29 -> #REF! | I29: =+H29/C29 -> #REF!
A30: Expenditures ($) | B30: =+'WF01-Real'!H30 -> #REF! | C30: ='WF01-Real'!I30 -> #REF! | D30: ='WF01-Real'!J30 -> #REF! | E30: =SUM(#REF!) -> #REF! | F30: =((E30/B30)-1)*100 -> #REF! | H30: =+E30-C30 -> #REF! | I30: =+H30/C30 -> #REF!
A31: Electricity
A32: Northeast
A33: Consumption (kWh***) | B33: =+'WF01-Real'!H33 -> #REF! | C33: ='WF01-Real'!I33 -> #REF! | D33: ='WF01-Real'!J33 -> #REF! | E33: =SUM(#REF!) -> #REF! | F33: =((E33/B33)-1)*100 -> #REF! | H33: =+E33-C33 -> #REF! | I33: =+H33/C33 -> #REF!
A34: Price ($/kwh) | B34: =+'WF01-Real'!H34 -> #REF! | C34: ='WF01-Real'!I34 -> #REF! | D34: ='WF01-Real'!J34 -> #REF! | E34: =E35/E33 -> #REF! | F34: =((E34/B34)-1)*100 -> #REF! | H34: =+E34-C34 -> #REF! | I34: =+H34/C34 -> #REF!
A35: Expenditures ($) | B35: =+'WF01-Real'!H35 -> #REF! | C35: ='WF01-Real'!I35 -> #REF! | D35: ='WF01-Real'!J35 -> #REF! | E35: =SUM(#REF!) -> #REF! | F35: =((E35/B35)-1)*100 -> #REF! | H35: =+E35-C35 -> #REF! | I35: =+H35/C35 -> #REF!
A36: Midwest
A37: Consumption (kWh) | B37: =+'WF01-Real'!H37 -> #REF! | C37: ='WF01-Real'!I37 -> #REF! | D37: ='WF01-Real'!J37 -> #REF! | E37: =SUM(#REF!) -> #REF! | F37: =((E37/B37)-1)*100 -> #REF! | H37: =+E37-C37 -> #REF! | I37: =+H37/C37 -> #REF!
A38: Price ($/kwh) | B38: =+'WF01-Real'!H38 -> #REF! | C38: ='WF01-Real'!I38 -> #REF! | D38: ='WF01-Real'!J38 -> #REF! | E38: =E39/E37 -> #REF! | F38: =((E38/B38)-1)*100 -> #REF! | H38: =+E38-C38 -> #REF! | I38: =+H38/C38 -> #REF!
A39: Expenditures ($) | B39: =+'WF01-Real'!H39 -> #REF! | C39: ='WF01-Real'!I39 -> #REF! | D39: ='WF01-Real'!J39 -> #REF! | E39: =SUM(#REF!) -> #REF! | F39: =((E39/B39)-1)*100 -> #REF! | H39: =+E39-C39 -> #REF! | I39: =+H39/C39 -> #REF!
A40: South
...

Sheet Expenditures (Warm) Real
A1: Warm Case
C2: Changes from last winter
B3: Last Winter | C3: Baseline Forecast | E3: Warm Forecast | H3: Change from Baseline | K3: Baseline change from previous winter | L3: Winter Range | M3: Warmer
A4: Fuel / Region | B4: =+'Seasonal WFO'!F4 -> 25-26 | C4: =+'Seasonal WFO'!G4 -> 26-27 | D4: % Change | E4: =+C4 -> 26-27 | F4: % Change | H4: Quantity | I4: Percent | K4: Quantity
A5: Natural Gas
A6: Northeast
A7: Consumption (Mcf**) | B7: =+'WF01-Real'!H7 -> #REF! | C7: ='WF01-Real'!I7 -> #REF! | D7: ='WF01-Real'!J7 -> #REF! | E7: =SUM(#REF!) -> #REF! | F7: =((E7/B7)-1)*100 -> #REF! | H7: =+E7-C7 -> #REF! | I7: =+H7/C7 -> #REF! | K7: =C7-B7 -> #REF! | L7: =F9-F17 -> #REF!
A8: Price ($/mcf) | B8: =+'WF01-Real'!H8 -> #REF! | C8: ='WF01-Real'!I8 -> #REF! | D8: ='WF01-Real'!J8 -> #REF! | E8: =E9/E7 -> #REF! | F8: =((E8/B8)-1)*100 -> #REF! | H8: =+E8-C8 -> #REF! | I8: =+H8/C8 -> #REF! | K8: =C8-B8 -> #REF!
A9: Expenditures ($) | B9: =+'WF01-Real'!H9 -> #REF! | C9: ='WF01-Real'!I9 -> #REF! | D9: ='WF01-Real'!J9 -> #REF! | E9: =SUM(#REF!) -> #REF! | F9: =((E9/B9)-1)*100 -> #REF! | H9: =+E9-C9 -> #REF! | I9: =+H9/C9 -> #REF! | K9: =C9-B9 -> #REF!
A10: Midwest | K10: =C10-B10 -> 0
A11: Consumption (Mcf) | B11: =+'WF01-Real'!H11 -> #REF! | C11: ='WF01-Real'!I11 -> #REF! | D11: ='WF01-Real'!J11 -> #REF! | E11: =SUM(#REF!) -> #REF! | F11: =((E11/B11)-1)*100 -> #REF! | H11: =+E11-C11 -> #REF! | I11: =+H11/C11 -> #REF! | K11: =C11-B11 -> #REF!
A12: Price ($/mcf) | B12: =+'WF01-Real'!H12 -> #REF! | C12: ='WF01-Real'!I12 -> #REF! | D12: ='WF01-Real'!J12 -> #REF! | E12: =E13/E11 -> #REF! | F12: =((E12/B12)-1)*100 -> #REF! | H12: =+E12-C12 -> #REF! | I12: =+H12/C12 -> #REF! | K12: =C12-B12 -> #REF!
A13: Expenditures ($) | B13: =+'WF01-Real'!H13 -> #REF! | C13: ='WF01-Real'!I13 -> #REF! | D13: ='WF01-Real'!J13 -> #REF! | E13: =SUM(#REF!) -> #REF! | F13: =((E13/B13)-1)*100 -> #REF! | H13: =+E13-C13 -> #REF! | I13: =+H13/C13 -> #REF! | K13: =C13-B13 -> #REF!
A14: South | K14: =C14-B14 -> 0
A15: Consumption (Mcf) | B15: =+'WF01-Real'!H15 -> #REF! | C15: ='WF01-Real'!I15 -> #REF! | D15: ='WF01-Real'!J15 -> #REF! | E15: =SUM(#REF!) -> #REF! | F15: =((E15/B15)-1)*100 -> #REF! | H15: =+E15-C15 -> #REF! | I15: =+H15/C15 -> #REF! | K15: =C15-B15 -> #REF!
A16: Price ($/mcf) | B16: =+'WF01-Real'!H16 -> #REF! | C16: ='WF01-Real'!I16 -> #REF! | D16: ='WF01-Real'!J16 -> #REF! | E16: =E17/E15 -> #REF! | F16: =((E16/B16)-1)*100 -> #REF! | H16: =+E16-C16 -> #REF! | I16: =+H16/C16 -> #REF! | K16: =C16-B16 -> #REF!
A17: Expenditures ($) | B17: =+'WF01-Real'!H17 -> #REF! | C17: ='WF01-Real'!I17 -> #REF! | D17: ='WF01-Real'!J17 -> #REF! | E17: =SUM(#REF!) -> #REF! | F17: =((E17/B17)-1)*100 -> #REF! | H17: =+E17-C17 -> #REF! | I17: =+H17/C17 -> #REF! | K17: =C17-B17 -> #REF!
A18: West | K18: =C18-B18 -> 0
A19: Consumption (Mcf) | B19: =+'WF01-Real'!H19 -> #REF! | C19: ='WF01-Real'!I19 -> #REF! | D19: ='WF01-Real'!J19 -> #REF! | E19: =SUM(#REF!) -> #REF! | F19: =((E19/B19)-1)*100 -> #REF! | H19: =+E19-C19 -> #REF! | I19: =+H19/C19 -> #REF! | K19: =C19-B19 -> #REF!
A20: Price ($/mcf) | B20: =+'WF01-Real'!H20 -> #REF! | C20: ='WF01-Real'!I20 -> #REF! | D20: ='WF01-Real'!J20 -> #REF! | E20: =E21/E19 -> #REF! | F20: =((E20/B20)-1)*100 -> #REF! | H20: =+E20-C20 -> #REF! | I20: =+H20/C20 -> #REF! | K20: =C20-B20 -> #REF!
A21: Expenditures ($) | B21: =+'WF01-Real'!H21 -> #REF! | C21: ='WF01-Real'!I21 -> #REF! | D21: ='WF01-Real'!J21 -> #REF! | E21: =SUM(#REF!) -> #REF! | F21: =((E21/B21)-1)*100 -> #REF! | H21: =+E21-C21 -> #REF! | I21: =+H21/C21 -> #REF! | K21: =C21-B21 -> #REF!
A22: U.S. Average | K22: =C22-B22 -> 0
A23: Consumption (Mcf) | B23: =+'WF01-Real'!H23 -> #REF! | C23: ='WF01-Real'!I23 -> #REF! | D23: ='WF01-Real'!J23 -> #REF! | E23: =SUM(#REF!) -> #REF! | F23: =((E23/B23)-1)*100 -> #REF! | H23: =+E23-C23 -> #REF! | I23: =+H23/C23 -> #REF! | K23: =C23-B23 -> #REF!
A24: Price ($/mcf) | B24: =+'WF01-Real'!H24 -> #REF! | C24: ='WF01-Real'!I24 -> #REF! | D24: ='WF01-Real'!J24 -> #REF! | E24: =E25/E23 -> #REF! | F24: =((E24/B24)-1)*100 -> #REF! | H24: =+E24-C24 -> #REF! | I24: =+H24/C24 -> #REF! | K24: =C24-B24 -> #REF!
A25: Expenditures ($) | B25: =+'WF01-Real'!H25 -> #REF! | C25: ='WF01-Real'!I25 -> #REF! | D25: ='WF01-Real'!J25 -> #REF! | E25: =SUM(#REF!) -> #REF! | F25: =((E25/B25)-1)*100 -> #REF! | H25: =+E25-C25 -> #REF! | I25: =+H25/C25 -> #REF! | K25: =C25-B25 -> #REF! | L25: ='Expenditures(Cold) Real'!E25-'Expenditures (Warm) Real'!E25 -> #REF! | M25: =H25+K25 -> #REF!
A26: Heating Oil | K26: =C26-B26 -> 0
A27: U.S. Average | K27: =C27-B27 -> 0
A28: Consumption (gallons) | B28: =+'WF01-Real'!H28 -> #REF! | C28: ='WF01-Real'!I28 -> #REF! | D28: ='WF01-Real'!J28 -> #REF! | E28: =SUM(#REF!) -> #REF! | F28: =((E28/B28)-1)*100 -> #REF! | H28: =+E28-C28 -> #REF! | I28: =+H28/C28 -> #REF! | K28: =C28-B28 -> #REF!
A29: Price ($/gallon) | B29: =+'WF01-Real'!H29 -> #REF! | C29: ='WF01-Real'!I29 -> #REF! | D29: ='WF01-Real'!J29 -> #REF! | E29: =E30/E28 -> #REF! | F29: =((E29/B29)-1)*100 -> #REF! | H29: =+E29-C29 -> #REF! | I29: =+H29/C29 -> #REF! | K29: =C29-B29 -> #REF!
A30: Expenditures ($) | B30: =+'WF01-Real'!H30 -> #REF! | C30: ='WF01-Real'!I30 -> #REF! | D30: ='WF01-Real'!J30 -> #REF! | E30: =SUM(#REF!) -> #REF! | F30: =((E30/B30)-1)*100 -> #REF! | H30: =+E30-C30 -> #REF! | I30: =+H30/C30 -> #REF! | K30: =C30-B30 -> #REF! | L30: ='Expenditures(Cold) Real'!E30-'Expenditures (Warm) Real'!E30 -> #REF! | M30: =H30+K30 -> #REF!
A31: Electricity | K31: =C31-B31 -> 0
A32: Northeast | K32: =C32-B32 -> 0
A33: Consumption (kWh***) | B33: =+'WF01-Real'!H33 -> #REF! | C33: ='WF01-Real'!I33 -> #REF! | D33: ='WF01-Real'!J33 -> #REF! | E33: =SUM(#REF!) -> #REF! | F33: =((E33/B33)-1)*100 -> #REF! | H33: =+E33-C33 -> #REF! | I33: =+H33/C33 -> #REF! | K33: =C33-B33 -> #REF!
A34: Price ($/kwh) | B34: =+'WF01-Real'!H34 -> #REF! | C34: ='WF01-Real'!I34 -> #REF! | D34: ='WF01-Real'!J34 -> #REF! | E34: =E35/E33 -> #REF! | F34: =((E34/B34)-1)*100 -> #REF! | H34: =+E34-C34 -> #REF! | I34: =+H34/C34 -> #REF! | K34: =C34-B34 -> #REF!
A35: Expenditures ($) | B35: =+'WF01-Real'!H35 -> #REF! | C35: ='WF01-Real'!I35 -> #REF! | D35: ='WF01-Real'!J35 -> #REF! | E35: =SUM(#REF!) -> #REF! | F35: =((E35/B35)-1)*100 -> #REF! | H35: =+E35-C35 -> #REF! | I35: =+H35/C35 -> #REF! | K35: =C35-B35 -> #REF!
A36: Midwest | K36: =C36-B36 -> 0
A37: Consumption (kWh) | B37: =+'WF01-Real'!H37 -> #REF! | C37: ='WF01-Real'!I37 -> #REF! | D37: ='WF01-Real'!J37 -> #REF! | E37: =SUM(#REF!) -> #REF! | F37: =((E37/B37)-1)*100 -> #REF! | H37: =+E37-C37 -> #REF! | I37: =+H37/C37 -> #REF! | K37: =C37-B37 -> #REF!
A38: Price ($/kwh) | B38: =+'WF01-Real'!H38 -> #REF! | C38: ='WF01-Real'!I38 -> #REF! | D38: ='WF01-Real'!J38 -> #REF! | E38: =E39/E37 -> #REF! | F38: =((E38/B38)-1)*100 -> #REF! | H38: =+E38-C38 -> #REF! | I38: =+H38/C38 -> #REF! | K38: =C38-B38 -> #REF!
A39: Expenditures ($) | B39: =+'WF01-Real'!H39 -> #REF! | C39: ='WF01-Real'!I39 -> #REF! | D39: ='WF01-Real'!J39 -> #REF! | E39: =SUM(#REF!) -> #REF! | F39: =((E39/B39)-1)*100 -> #REF! | H39: =+E39-C39 -> #REF! | I39: =+H39/C39 -> #REF! | K39: =C39-B39 -> #REF!
A40: South | K40: =C40-B40 -> 0
...
